BEGIN:VCALENDAR
VERSION:2.0
PRODID:-//Plone.org//NONSGML plone.app.event//EN
X-WR-TIMEZONE:Europe/Athens
BEGIN:VEVENT
SUMMARY:T-FORS 6th Executive Board Meeting
DTSTART;TZID=Europe/Athens;VALUE=DATE-TIME:20240219T130000
DTEND;TZID=Europe/Athens;VALUE=DATE-TIME:20240219T140000
DTSTAMP;VALUE=DATE-TIME:20260421T173319Z
UID:e3a1160df4e04f019b1e3cdc04d76f31@t-fors.eu
CREATED;VALUE=DATE-TIME:20240130T163643Z
LAST-MODIFIED;VALUE=DATE-TIME:20240130T163658Z
LOCATION:Zoom
URL:https://t-fors.eu/events/t-fors-6th-executive-board-meeting
END:VEVENT
BEGIN:VTIMEZONE
TZID:Europe/Athens
X-LIC-LOCATION:Europe/Athens
BEGIN:STANDARD
DTSTART;VALUE=DATE-TIME:20231029T030000
TZNAME:EET
TZOFFSETFROM:+0300
TZOFFSETTO:+0200
END:STANDARD
END:VTIMEZONE
END:VCALENDAR
