BEGIN:VCALENDAR
VERSION:2.0
PRODID:-//Plone.org//NONSGML plone.app.event//EN
X-WR-TIMEZONE:Europe/Athens
BEGIN:VEVENT
SUMMARY:T-FORS First Innovation Day
DTSTART;TZID=Europe/Athens;VALUE=DATE-TIME:20231123T180000
DTEND;TZID=Europe/Athens;VALUE=DATE-TIME:20231123T210000
DTSTAMP;VALUE=DATE-TIME:20260423T221725Z
UID:549b37ce8329449d85015766e7365bcf@t-fors.eu
CONTACT:https://t-fors.eu/t-fors-users/t-fors-first-innovation-day
CREATED;VALUE=DATE-TIME:20230927T181515Z
LAST-MODIFIED;VALUE=DATE-TIME:20230927T181639Z
LOCATION:SPOT Room\, Pierre Baudis Congress Centre\, 11 Esp. Compans Caffa
 relli 31000\, Toulouse\, France
URL:https://t-fors.eu/events/t-fors-first-innovation-day
END:VEVENT
BEGIN:VTIMEZONE
TZID:Europe/Athens
X-LIC-LOCATION:Europe/Athens
BEGIN:STANDARD
DTSTART;VALUE=DATE-TIME:20231029T030000
TZNAME:EET
TZOFFSETFROM:+0300
TZOFFSETTO:+0200
END:STANDARD
END:VTIMEZONE
END:VCALENDAR
