BEGIN:VCALENDAR
VERSION:2.0
PRODID:-//Plone.org//NONSGML plone.app.event//EN
X-WR-TIMEZONE:Europe/Athens
BEGIN:VEVENT
SUMMARY:T-FORS Technical KOM
DTSTART;TZID=Europe/Athens;VALUE=DATE-TIME:20230118T100000
DTEND;TZID=Europe/Athens;VALUE=DATE-TIME:20230118T180000
DTSTAMP;VALUE=DATE-TIME:20260422T121102Z
UID:bef58f2ee9fa46adb6f1c5be5148deac@t-fors.eu
CREATED;VALUE=DATE-TIME:20221228T171319Z
DESCRIPTION:Consortium Meeting
LAST-MODIFIED;VALUE=DATE-TIME:20230123T150105Z
LOCATION:RMI\, Uccle\, Brussels
URL:https://t-fors.eu/events/t-fors-kom-consortium-meeting
END:VEVENT
BEGIN:VTIMEZONE
TZID:Europe/Athens
X-LIC-LOCATION:Europe/Athens
BEGIN:STANDARD
DTSTART;VALUE=DATE-TIME:20221030T030000
TZNAME:EET
TZOFFSETFROM:+0300
TZOFFSETTO:+0200
END:STANDARD
END:VTIMEZONE
END:VCALENDAR
