BEGIN:VCALENDAR
VERSION:2.0
PRODID:-//Plone.org//NONSGML plone.app.event//EN
X-WR-TIMEZONE:Europe/Athens
BEGIN:VEVENT
SUMMARY:T-FORS Training School
DTSTART;VALUE=DATE:20240205
DTEND;VALUE=DATE:20240210
DTSTAMP;VALUE=DATE-TIME:20260422T105806Z
UID:d0a4c0fb74d848209600c40003c69724@t-fors.eu
CONTACT:https://wis.kuleuven.be/events/pithiatfors/home/
CREATED;VALUE=DATE-TIME:20230928T161712Z
LAST-MODIFIED;VALUE=DATE-TIME:20230928T162145Z
LOCATION:Leuven\, Belgium
URL:https://t-fors.eu/events/t-fors-training-school
END:VEVENT
END:VCALENDAR
